BEGIN:VCALENDAR
VERSION:2.0
PRODID:-//Blue Sky Luxury Barbados - ECPv6.15.20//NONSGML v1.0//EN
CALSCALE:GREGORIAN
METHOD:PUBLISH
X-ORIGINAL-URL:https://blueskyluxury.com/barbados
X-WR-CALDESC:Events for Blue Sky Luxury Barbados
REFRESH-INTERVAL;VALUE=DURATION:PT1H
X-Robots-Tag:noindex
X-PUBLISHED-TTL:PT1H
BEGIN:VTIMEZONE
TZID:America/Barbados
BEGIN:STANDARD
TZOFFSETFROM:-0400
TZOFFSETTO:-0400
TZNAME:AST
DTSTART:20250101T000000
END:STANDARD
END:VTIMEZONE
BEGIN:VEVENT
DTSTART;VALUE=DATE:20260502
DTEND;VALUE=DATE:20260510
DTSTAMP:20260419T102626
CREATED:20260415T193627Z
LAST-MODIFIED:20260415T193627Z
UID:239104-1777680000-1778371199@blueskyluxury.com
SUMMARY:Barbados International Polo Season 2026
DESCRIPTION:⏰ Time – 3:15PM (Gates open at 2PM) \n📍 Location – Apes Hill & Holders \n🎟️ Admission – Adults: BBD$20 | Children under 10: FREE
URL:https://blueskyluxury.com/barbados/event/barbados-international-polo-season-2026/
ATTACH;FMTTYPE=image/png:https://blueskyluxury.com/barbados/wp-content/uploads/sites/6/2026/04/Polo.png
END:VEVENT
END:VCALENDAR